BEGIN:VCALENDAR
VERSION:2.0
PRODID:-//ChamberMaster//Event Calendar 2.0//EN
METHOD:PUBLISH
X-PUBLISHED-TTL:P3D
REFRESH-INTERVAL:P3D
CALSCALE:GREGORIAN
BEGIN:VEVENT
DTSTART:20170802T183000Z
DTEND:20170802T200000Z
X-MICROSOFT-CDO-ALLDAYEVENT:FALSE
SUMMARY:August Membership Luncheon
DESCRIPTION:August Membership Luncheon\n\nLegislative Wrap Up\n\nJoin our State elected officials at this Legislative Wrap Up as they share their proudest moments of the 2017 Legislative session.\n\nHouse Majority Leader Pat Sullivan (47th District)\n\nDeputy Speaker Pro Tempor Representative Tina Orwall (33rd District)\n\nRepresentative Mia Gregerson (33rd District)\n\n\n\nThis luncheon is sponsored by: Berkshire Hathaway HomeServices Northwest Real Estate
X-ALT-DESC;FMTTYPE=text/html:<span style="font-size: 20px\;"><span style="language: en-US\;"><span style="font-family: times new roman\;"><strong>August Membership Luncheon<br />\nLegislative Wrap Up</strong><br />\n<span style="font-size: 16px\;"><strong>Join our State&nbsp\;elected officials at&nbsp\;this Legislative Wrap&nbsp\;Up as they share their proudest moments&nbsp\;of the 2017 Legislative session.<br />\nHouse Majority Leader Pat Sullivan (47th District)</strong></span></span></span></span><br />\n<strong><font face="Times New Roman" size="3">Deputy Speaker Pro Tempor Representative Tina Orwall (33rd District)<br />\nRepresentative Mia Gregerson (33rd District)<br />\n<br />\nThis luncheon is sponsored by: Berkshire Hathaway HomeServices Northwest Real Estate</font></strong><br />\n<br />\n<br />\n<br />\n&nbsp\;
LOCATION:Golden Steer Steak n' Rib House - 23826 104th Ave SE\, Kent\, WA 98031
UID:e.444.242121
SEQUENCE:3
DTSTAMP:20260419T194451Z
URL:http://kentdev.chambermaster.com/events/details/august-membership-luncheon-08-02-2017-242121
END:VEVENT

END:VCALENDAR
